BEGIN:VCALENDAR
VERSION:2.0
PRODID:-//Safer Buildings - Calendar - ECPv6.15.20//NONSGML v1.0//EN
CALSCALE:GREGORIAN
METHOD:PUBLISH
X-ORIGINAL-URL:https://saferbuildings.net/calendar
X-WR-CALDESC:Events for Safer Buildings - Calendar
REFRESH-INTERVAL;VALUE=DURATION:PT1H
X-Robots-Tag:noindex
X-PUBLISHED-TTL:PT1H
BEGIN:VTIMEZONE
TZID:America/New_York
BEGIN:DAYLIGHT
TZOFFSETFROM:-0500
TZOFFSETTO:-0400
TZNAME:EDT
DTSTART:20250309T070000
END:DAYLIGHT
BEGIN:STANDARD
TZOFFSETFROM:-0400
TZOFFSETTO:-0500
TZNAME:EST
DTSTART:20251102T060000
END:STANDARD
BEGIN:DAYLIGHT
TZOFFSETFROM:-0500
TZOFFSETTO:-0400
TZNAME:EDT
DTSTART:20260308T070000
END:DAYLIGHT
BEGIN:STANDARD
TZOFFSETFROM:-0400
TZOFFSETTO:-0500
TZNAME:EST
DTSTART:20261101T060000
END:STANDARD
BEGIN:DAYLIGHT
TZOFFSETFROM:-0500
TZOFFSETTO:-0400
TZNAME:EDT
DTSTART:20270314T070000
END:DAYLIGHT
BEGIN:STANDARD
TZOFFSETFROM:-0400
TZOFFSETTO:-0500
TZNAME:EST
DTSTART:20271107T060000
END:STANDARD
END:VTIMEZONE
BEGIN:VEVENT
DTSTART;TZID=America/New_York:20260512T090000
DTEND;TZID=America/New_York:20260513T170000
DTSTAMP:20260424T224131
CREATED:20260312T211146Z
LAST-MODIFIED:20260414T130044Z
UID:10000056-1778576400-1778691600@saferbuildings.net
SUMMARY:NICET IB-PSC Exam Prep (all levels) and ERCES Installation Best Practices
DESCRIPTION:Join ERCES Trainer LTD and WESCO for this 2-day hands-on class covering ERCES installation best practices and exam prep for NICET IB-PSC certification.  Registration is now open. \n\nThe NICET Certification Process\nProject Planning\, Construction & Lifecycle\nCodes & Standards\nRadio Systems Explained\nUnderstand Radio Frequency (RF) and Interference\nUnderstanding Decibels\nSite Surveys & Test Equipment\nUnderstanding Link Budgets\nUnderstanding DAS Components\nConstruction Best Practices\nBest Practices for Testing BDAs/DAS\nAHJ Inspection and Close Out Package\nHands-on time with BDA Commissioning\, Site Surveys and Cable Testing
URL:https://saferbuildings.net/calendar/event/nicet-ib-psc-exam-prep-levels-1-2-3-and-design-and-erces-installation-best-practices/
LOCATION:WESCO\, Kent\, WA\, 21419 64th Ave South\, Kent\, WA\, 98032\, United States
CATEGORIES:Code & Standards,ERCES Fundamentals,ERCES Technical,Test Equipment
ATTACH;FMTTYPE=image/png:https://saferbuildings.net/calendar/wp-content/uploads/2026/03/ERCES-Trainer-logo-with-Handbook-LG-1.png
ORGANIZER;CN="ERCESTrainer.com":MAILTO:Mike@ERCESTrainer.com
END:VEVENT
BEGIN:VEVENT
DTSTART;TZID=America/New_York:20260609T083000
DTEND;TZID=America/New_York:20260610T170000
DTSTAMP:20260424T224131
CREATED:20260407T202432Z
LAST-MODIFIED:20260407T202432Z
UID:10000097-1780993800-1781110800@saferbuildings.net
SUMMARY:ADRF/Wesco Training - Denver\, CO
DESCRIPTION:Advance your expertise in in-building wireless and earn industry-recognized ADRF certifications through this intensive two-day training program. This program provides in-depth product knowledge and certifications\, equipping you with the skills and credentials to confidently design\, deploy\, and support real-world systems. \nTraining Agenda\nDay 1 – June 9\, 2026: ERCES (Emergency Responder Communication Enhancement System) \n\nRF Fundamentals: Establish a strong foundation in Radio Frequency (RF) principles\, setting the stage for advanced concepts.\nPS 101: Delve into the details of Emergency Responder Communications Enhancement System (ERCES)\, understanding basic public safety codes and regulations\, and types of public safety systems.\nPS 102: Further your understanding of ERCES\, uncovering advanced knowledge of design\, installation\, and commissioning.\nPSR-78-9533/7-U1 Training & Certification Exam: Master the details of the 700/800 MHz PSR-U1 Series Repeaters.\nPSR-VU/U-9537-U1 Training & Certification Exam: Master the details of the VHF/UHF PSR-U1 Series Repeaters.\nFiRe-78-8-U Training & Certification Exam: Learn the ins and outs of the FiRe-78-U\, a powerful fiber optic public safety repeater.\n\nDay 2 – June 10\, 2026: Cellular DAS (Distributed Antenna System) or Repeater\n\nDAS 101: Gain insights into Distributed Antenna Systems (DAS)\, a critical component in optimizing wireless communication networks.\nDAS 102: Explore advanced concepts in Distributed Antenna Systems\, building upon the foundation. \nSDRC Series Training & Certification Exam: Learn the capabilities of ADRF’s first Part 20 consumer-grade repeater\, designed to deliver superior performance and reliability.\nADXV Series DAS Architecture: Unravel the architecture of ADXV Series\, the best modular DAS in the market\, understanding its design and functionality for optimal deployment.\nADXV Series DAS Commissioning: Learn the essential steps involved in commissioning ADXV Series\, ensuring seamless integration into new and existing network infrastructure.\nADXV Series DAS Certification Exam: Cap off your training journey by earning a prestigious certification for the ADXV Series DAS\, solidifying your expertise in this cutting-edge technology.
URL:https://saferbuildings.net/calendar/event/adrf-wesco-training-denver-co/
LOCATION:Wesco Denver Office\, 10432 E 49th Dr\, Denver\, CO\, 80216\, United States
CATEGORIES:ERCES,ERCES Fundamentals,ERCES Technical,Product Training,School Safety
ATTACH;FMTTYPE=image/jpeg:https://saferbuildings.net/calendar/wp-content/uploads/2026/04/SBC-Event-Image-Wesco.jpg
ORGANIZER;CN="ADRF":MAILTO:daset@adrftech.com
END:VEVENT
END:VCALENDAR