BEGIN:VCALENDAR
VERSION:2.0
PRODID:-//Safer Buildings - Calendar - ECPv6.15.20//NONSGML v1.0//EN
CALSCALE:GREGORIAN
METHOD:PUBLISH
X-ORIGINAL-URL:https://saferbuildings.net/calendar
X-WR-CALDESC:Events for Safer Buildings - Calendar
REFRESH-INTERVAL;VALUE=DURATION:PT1H
X-Robots-Tag:noindex
X-PUBLISHED-TTL:PT1H
BEGIN:VTIMEZONE
TZID:America/New_York
BEGIN:DAYLIGHT
TZOFFSETFROM:-0500
TZOFFSETTO:-0400
TZNAME:EDT
DTSTART:20250309T070000
END:DAYLIGHT
BEGIN:STANDARD
TZOFFSETFROM:-0400
TZOFFSETTO:-0500
TZNAME:EST
DTSTART:20251102T060000
END:STANDARD
BEGIN:DAYLIGHT
TZOFFSETFROM:-0500
TZOFFSETTO:-0400
TZNAME:EDT
DTSTART:20260308T070000
END:DAYLIGHT
BEGIN:STANDARD
TZOFFSETFROM:-0400
TZOFFSETTO:-0500
TZNAME:EST
DTSTART:20261101T060000
END:STANDARD
BEGIN:DAYLIGHT
TZOFFSETFROM:-0500
TZOFFSETTO:-0400
TZNAME:EDT
DTSTART:20270314T070000
END:DAYLIGHT
BEGIN:STANDARD
TZOFFSETFROM:-0400
TZOFFSETTO:-0500
TZNAME:EST
DTSTART:20271107T060000
END:STANDARD
END:VTIMEZONE
BEGIN:VEVENT
DTSTART;TZID=America/New_York:20261027T090000
DTEND;TZID=America/New_York:20261027T170000
DTSTAMP:20260425T094908
CREATED:20260219T163745Z
LAST-MODIFIED:20260413T180539Z
UID:10000020-1793091600-1793120400@saferbuildings.net
SUMMARY:Toledo\, OH In-Building Public Safety Communications Seminar
DESCRIPTION:Designed for school safety leaders\, IT teams\, public safety professionals\, and partners—focused on practical\, integrated safety and emergency communications. \nCovers Alyssa’s Law/PASS guidelines\, panic alert and dispatch integration\, mapping/geolocation\, and in-building wireless (ERCES\, cellular\, Wi-Fi/private networks). \nEducation-focused with panels and takeaways\, plus vendor exhibits and lunch; most registrations are free (non-member industry: $195\, 2 seats/company).
URL:https://saferbuildings.net/calendar/event/toledo-oh-in-building-public-safety-communications-seminar/
LOCATION:Veterans Memorial Building\, 520 Conneaut Avenue\, Bowling Green\, OH\, 43402\, United States
CATEGORIES:ERCES,SBC Seminar / Training
ATTACH;FMTTYPE=image/png:https://saferbuildings.net/calendar/wp-content/uploads/2026/02/Toledo-2026-1-1.png
ORGANIZER;CN="Safer Buildings Coalition":MAILTO:info@saferbuildings.org
END:VEVENT
BEGIN:VEVENT
DTSTART;TZID=America/New_York:20261103T090000
DTEND;TZID=America/New_York:20261105T170000
DTSTAMP:20260425T094908
CREATED:20260313T035347Z
LAST-MODIFIED:20260313T042201Z
UID:10000058-1793696400-1793898000@saferbuildings.net
SUMMARY:NICET IB-PSC Exam Prep (levels 1\, 2\, 3 and design) and ERCES Installation Best Practices
DESCRIPTION:Proper installation of ERCES (Emergency Responder Communication Enhancement Systems)\, also known as BDA or DAS\, requires specific knowledge of building and fire code requirements. This 3-day hands-on class will guide individuals through the proper design\, installation\, and implementation of these systems to ensure maximum performance and code compliance. This training will focus on best practices for installation\, testing\, and commissioning of ERCES system equipment. This class will also help prepare students to pass the NICET IB-PSC (In-Building Public Safety Communications) exams. \n\nThe NICET Certification Process\nProject Planning\, Construction & Lifecycle\nCodes & Standards\nRadio Systems Explained\nUnderstand Radio Frequency (RF) and Interference\nUnderstanding Decibels\nSite Surveys & Test Equipment\nUnderstanding Link Budgets\nUnderstanding DAS Components\nConstruction Best Practices\nBest Practices for Testing BDAs/DAS\nAHJ Inspection and Close Out Package\nHands-on time with BDA Commissioning\, Site Surveys and Cable Testing
URL:https://saferbuildings.net/calendar/event/nicet-ib-psc-exam-prep-levels-1-2-3-and-design-and-erces-installation-best-practices-2/
LOCATION:South Point Hotel and Casino\, 9777 S Las Vegas Blvd\, Las Vegas\, NV\, 89183\, United States
CATEGORIES:Code & Standards,ERCES Fundamentals,ERCES Technical,Test Equipment
ATTACH;FMTTYPE=image/png:https://saferbuildings.net/calendar/wp-content/uploads/2026/03/ERCES-Trainer-logo-with-Handbook-LG-3.png
ORGANIZER;CN="ERCESTrainer.com":MAILTO:Mike@ERCESTrainer.com
END:VEVENT
BEGIN:VEVENT
DTSTART;TZID=America/New_York:20261110T090000
DTEND;TZID=America/New_York:20261110T143000
DTSTAMP:20260425T094908
CREATED:20260219T164040Z
LAST-MODIFIED:20260313T190757Z
UID:10000021-1794301200-1794321000@saferbuildings.net
SUMMARY:Chicago\, IL Area In-Building Public Safety Communications Seminar
DESCRIPTION:Designed for school safety leaders\, IT teams\, public safety professionals\, and partners—focused on practical\, integrated safety and emergency communications. \nCovers Alyssa’s Law/PASS guidelines\, panic alert and dispatch integration\, mapping/geolocation\, and in-building wireless (ERCES\, cellular\, Wi-Fi/private networks). \nEducation-focused with panels and takeaways\, plus vendor exhibits and lunch; most registrations are free (non-member industry: $195\, 2 seats/company).
URL:https://saferbuildings.net/calendar/event/chicago-il-area-in-building-public-safety-communications-seminar/
LOCATION:Chicago\, IL\, Chicago\, IL\, United States
CATEGORIES:ERCES,SBC Seminar / Training
ATTACH;FMTTYPE=image/webp:https://saferbuildings.net/calendar/wp-content/uploads/2026/03/Placeholder-Seminar-Graphic.webp
ORGANIZER;CN="Safer Buildings Coalition":MAILTO:info@saferbuildings.org
END:VEVENT
BEGIN:VEVENT
DTSTART;TZID=America/New_York:20261112T090000
DTEND;TZID=America/New_York:20261112T143000
DTSTAMP:20260425T094908
CREATED:20260219T164208Z
LAST-MODIFIED:20260313T190732Z
UID:10000022-1794474000-1794493800@saferbuildings.net
SUMMARY:Dallas\, TX In-Building Public Safety Communications Seminar
DESCRIPTION:Designed for school safety leaders\, IT teams\, public safety professionals\, and partners—focused on practical\, integrated safety and emergency communications. \nCovers Alyssa’s Law/PASS guidelines\, panic alert and dispatch integration\, mapping/geolocation\, and in-building wireless (ERCES\, cellular\, Wi-Fi/private networks). \nEducation-focused with panels and takeaways\, plus vendor exhibits and lunch; most registrations are free (non-member industry: $195\, 2 seats/company).
URL:https://saferbuildings.net/calendar/event/dallas-tx-in-building-public-safety-communications-seminar/
LOCATION:Dallas\, TX\, Dallas\, TX\, United States
CATEGORIES:ERCES,SBC Seminar / Training
ATTACH;FMTTYPE=image/webp:https://saferbuildings.net/calendar/wp-content/uploads/2026/03/Placeholder-Seminar-Graphic.webp
ORGANIZER;CN="Safer Buildings Coalition":MAILTO:info@saferbuildings.org
END:VEVENT
BEGIN:VEVENT
DTSTART;TZID=America/New_York:20261117T090000
DTEND;TZID=America/New_York:20261117T143000
DTSTAMP:20260425T094908
CREATED:20260219T164300Z
LAST-MODIFIED:20260402T140714Z
UID:10000023-1794906000-1794925800@saferbuildings.net
SUMMARY:Nashville\, TN School Safety Tech and Wireless Seminar
DESCRIPTION:SCHOOL SAFETY TECH AND WIRELESS SEMINAR \nDesigned for school safety professionals\, IT and technology leaders\, the technology partners who support them\, and public safety professionals\, this seminar explores the challenges\, solutions\, and best practices for creating safer school environments through integrated technology and emergency communications. \nHosted by Safer Buildings Coalition leadership and subject matter experts\, this interactive seminar addresses the critical intersection of school safety technology\, emergency alert systems\, and in-building wireless communications. Content is tailored to include state and local requirements applicable to your region. \nThe seminar includes presentations\, panel discussions\, interactive audience discussions\, and practical takeaways. \nAgenda: \nSchool Safety Technologies and Best Practices \n\nTime = Life*: Alyssa’s Law and panic alert system requirements\nBuilding unified safety ecosystems: access control\, communications\, threat detection\, and response integration\nIndoor mapping and geolocation-based solutions\nThe importance of integration with state\, county\, and local emergency dispatch systems\nThe role of in-building wireless connectivity in holistic school safety (ERCES\, WiFi and other Private Networks\, Cellular)\n\nPASS Guidelines and Implementation \n\nOverview of PASS (Partner Alliance for Safer Schools) Security Guidelines\nPractical implementation strategies for K-12 environments\n\nWireless Infrastructure for Schools – Mandates\, Best Practices\, Considerations \n\nEmergency Responder Communications Enhancement Systems (ERCES) for Schools\n\n– What is required in your state? \n– Best Practices and Recommendations \n– Where to go for help \n\nCellular Phones and Coverage in Schools – Balancing Public Safety and Student Well Being\nPrivate Networks and WiFi: Taking control of wireless infrastructure in Schools\n\n– Types\, Coverage\, Resiliency\, Best Practices \nNOTE: This is an education-focused event with vendor exhibits. \nWHO SHOULD ATTEND: \nSchool & Government \n\nSchool district administrators and safety/security directors\nSchool IT directors and technology administrators\nState and local education officials\nFire marshals and code officials\nEmergency Dispatch Center Professionals\n\nIndustry \n\nSystems integrators and solutions architects\nManufacturers and distributors\nSaaS\, software\, and GIS/mapping providers\nPhysical Security Professionals (surveillance\, access\, facility management)\nConsultants serving education markets\n\nVendor Exhibits! Lunch Provided! Most Registrations are Free! \n\nIndustry attendees who are not Safer Buildings Coalition Members: $195 per seat\nIndustry attendees limit: 2 seats per company\n\nIMPORTANT NOTE TO COMMERCIAL ATTENDEES \nSafer Buildings Coalition training and seminar events are in high demand. WE ASK THAT: \n\nTHIS IS AN EDUCATIONAL EVENT! Commercial attendees must refrain from prospecting or performing any sales or marketing activities. Safer Buildings Coalition reserves the right to remove anyone violating this restriction.\nINDUSTRY ATTENDEES: No active OR passive marketing at our events. Our sponsors have tables where they may display and discuss their products and services.\nSafer Buildings Coalition reserves the right to limit the number of attendees at any event.\n\n*Time = Life is trademarked by SBC partner Make Our Schools Safe (MOSS).\nVisit MakeOurSchoolsSafe.org for more details.
URL:https://saferbuildings.net/calendar/event/nashville-tn-school-safety-tech-and-wireless-seminar/
LOCATION:Nashville\, TN\, Nashville\, TN\, United States
CATEGORIES:SBC Seminar / Training
ATTACH;FMTTYPE=image/png:https://saferbuildings.net/calendar/wp-content/uploads/2026/02/Nashville-Banner-1-1.png
ORGANIZER;CN="Safer Buildings Coalition":MAILTO:info@saferbuildings.org
END:VEVENT
BEGIN:VEVENT
DTSTART;TZID=America/New_York:20261202T090000
DTEND;TZID=America/New_York:20261202T170000
DTSTAMP:20260425T094908
CREATED:20260219T164532Z
LAST-MODIFIED:20260413T180434Z
UID:10000024-1796202000-1796230800@saferbuildings.net
SUMMARY:Greensboro\, NC In-Building Public Safety Communications Seminar
DESCRIPTION:Designed for school safety leaders\, IT teams\, public safety professionals\, and partners—focused on practical\, integrated safety and emergency communications.\nCovers Alyssa’s Law/PASS guidelines\, panic alert and dispatch integration\, mapping/geolocation\, and in-building wireless (ERCES\, cellular\, Wi-Fi/private networks).\nEducation-focused with panels and takeaways\, plus vendor exhibits and lunch; most registrations are free (non-member industry: $195\, 2 seats/company).
URL:https://saferbuildings.net/calendar/event/greensboro-nc-in-building-public-safety-communications-seminar/
LOCATION:Greensboro\, NC\, Greensboro\, NC\, United States
CATEGORIES:ERCES,SBC Seminar / Training
ATTACH;FMTTYPE=image/webp:https://saferbuildings.net/calendar/wp-content/uploads/2026/03/Placeholder-Seminar-Graphic.webp
ORGANIZER;CN="Safer Buildings Coalition":MAILTO:info@saferbuildings.org
END:VEVENT
END:VCALENDAR