BEGIN:VCALENDAR
VERSION:2.0
PRODID:-//Safer Buildings - Calendar - ECPv6.15.20//NONSGML v1.0//EN
CALSCALE:GREGORIAN
METHOD:PUBLISH
X-WR-CALNAME:Safer Buildings - Calendar
X-ORIGINAL-URL:https://saferbuildings.net/calendar
X-WR-CALDESC:Events for Safer Buildings - Calendar
REFRESH-INTERVAL;VALUE=DURATION:PT1H
X-Robots-Tag:noindex
X-PUBLISHED-TTL:PT1H
BEGIN:VTIMEZONE
TZID:America/New_York
BEGIN:DAYLIGHT
TZOFFSETFROM:-0500
TZOFFSETTO:-0400
TZNAME:EDT
DTSTART:20250309T070000
END:DAYLIGHT
BEGIN:STANDARD
TZOFFSETFROM:-0400
TZOFFSETTO:-0500
TZNAME:EST
DTSTART:20251102T060000
END:STANDARD
BEGIN:DAYLIGHT
TZOFFSETFROM:-0500
TZOFFSETTO:-0400
TZNAME:EDT
DTSTART:20260308T070000
END:DAYLIGHT
BEGIN:STANDARD
TZOFFSETFROM:-0400
TZOFFSETTO:-0500
TZNAME:EST
DTSTART:20261101T060000
END:STANDARD
BEGIN:DAYLIGHT
TZOFFSETFROM:-0500
TZOFFSETTO:-0400
TZNAME:EDT
DTSTART:20270314T070000
END:DAYLIGHT
BEGIN:STANDARD
TZOFFSETFROM:-0400
TZOFFSETTO:-0500
TZNAME:EST
DTSTART:20271107T060000
END:STANDARD
END:VTIMEZONE
BEGIN:VEVENT
DTSTART;TZID=America/New_York:20260428T080000
DTEND;TZID=America/New_York:20260429T160000
DTSTAMP:20260425T095936
CREATED:20260313T142356Z
LAST-MODIFIED:20260316T131935Z
UID:10000068-1777363200-1777478400@saferbuildings.net
SUMMARY:Westell Hands-on Certification: SoCal
DESCRIPTION:Westell is elevating the competencies of the ERCES (Emergency Responder Communication Enhancement System) industry to the next level. \n\nAdhering to IFC and NFPA codes is essential\nKnow how to configure the BDA to follow the FCC rules\nPreventing Oscillation\nFamiliarity with CW signal generators and spectrum analyzers is mandatory\nOptimizing Uplink to ensure the least amount of interference\nEvery antenna must be tested to ensure its performance matches the design\nHow to calculate a Link Budget\n\nThrough hands-on exercises\, learn to: \n\nMake AC and DC connections\nAlarming connections\nAlarm configurations\nOptimizing Uplink\nSystem and RF settings for both wide-band and channelization modes\nConnect remote annunciators\nPerform troubleshooting\nDiscuss converting a standalone CS40 and CS45 BDA into a Fiber DAS\n\nLunch will be provided on both days. Exams will be administered on the second day.  Both a hands-on and a written exam must be passed to receive certification.
URL:https://saferbuildings.net/calendar/event/westell-hands-on-certification-socal/
LOCATION:WESCO\, 6251 Knott Ave\, Buena Park\, CA\, 90620\, United States
CATEGORIES:ERCES Technical,Product Training
ATTACH;FMTTYPE=image/png:https://saferbuildings.net/calendar/wp-content/uploads/2026/03/SBC-1.png
ORGANIZER;CN="Westell":MAILTO:training@westell.com
END:VEVENT
BEGIN:VEVENT
DTSTART;TZID=America/New_York:20260430T083000
DTEND;TZID=America/New_York:20260430T160000
DTSTAMP:20260425T095936
CREATED:20260313T182959Z
LAST-MODIFIED:20260325T163855Z
UID:10000084-1777537800-1777564800@saferbuildings.net
SUMMARY:PCTEL Public Safety Tester Certification Training: Buena Park\, CA
DESCRIPTION:PCTEL is proud to offer Certified Public Safety Tester Training in Buena Park\, CA\, conveniently co-located with Westell BDA/ERCES certification training.  You’ll learn how to use SeeHawk® Touch software and PCTEL scanning receiver in concert with the SeeHawk® Central automated workflow management platform. Certification is valid for 2 years and recognized by jurisdictions nationwide. You may also opt to be listed on our website as a PCTEL® Certified Public Public Safety Tester. \nThis is for the registration and purchase of the one day\, PCTEL Public Safety Tester Certification. Registration for PCTEL and Westell training is separate.
URL:https://saferbuildings.net/calendar/event/pctel-public-safety-tester-certification-training-buena-park-ca/
CATEGORIES:ERCES,Product Training,Test Equipment
ATTACH;FMTTYPE=image/png:https://saferbuildings.net/calendar/wp-content/uploads/2026/03/PCTEL-Certified-PS-Tester-Badge-2x1-1.png
ORGANIZER;CN="PCTEL":MAILTO:michael.rosenberg@pctel.com
END:VEVENT
BEGIN:VEVENT
DTSTART;TZID=America/New_York:20260512T090000
DTEND;TZID=America/New_York:20260512T170000
DTSTAMP:20260425T095936
CREATED:20260401T201520Z
LAST-MODIFIED:20260402T180103Z
UID:10000094-1778576400-1778605200@saferbuildings.net
SUMMARY:ADRF/Graybar Training – Detroit\, MI
DESCRIPTION:Advance your expertise in in-building wireless and earn industry-recognized ADRF certifications through this one-day\, in-person training. This program covers the fundamentals of public safety communication systems along with ADRF product certification – equipping you to confidently design\, deploy\, and support real-world solutions. \nAgenda\nTraining Agenda & Schedule\n\n\n\n\n9:00 AM – 9:30 AM \n\nIntroduction to Graybar & ADRF and market trends  \n\n9:30 AM – 10:30 AM\n\nPS 101: Delve into the details of Emergency Responder Communications Enhancement System (ERCES)\, understanding basic public safety codes and regulations\, and types of public safety systems. \n\n10:30 AM – 11:30 AM \n\nPS 102: Further your understanding of ERCES\, uncovering advanced knowledge of design\, installation\, and commissioning \n\n11:30 AM – 12:00 PM \n\nLunch \n\n12:00 PM – 3:00 PM \n\nPSR-78-9533/7-U1 Training & Certification Exam: Master the details of the 700/800 MHz PSR-U1 Series Repeaters. \nFiRe-78-8-U Training & Certification Exam: Learn the ins and outs of the FiRe-78-U\, a powerful fiber optic public safety repeater. \n\n3:00 PM – 5:00 PM \n\nHappy Hour (Optional)
URL:https://saferbuildings.net/calendar/event/adrf-graybar-training-detroit-mi/
LOCATION:Graybar Detroit Office\, 8350 Haggerty Road\, Belleville\, MI\, 48111\, United States
CATEGORIES:ERCES,ERCES Fundamentals,ERCES Technical,Product Training,School Safety
ATTACH;FMTTYPE=image/jpeg:https://saferbuildings.net/calendar/wp-content/uploads/2026/04/SBC-Event-Image-Graybar.jpg
ORGANIZER;CN="ADRF":MAILTO:daset@adrftech.com
END:VEVENT
BEGIN:VEVENT
DTSTART;TZID=America/New_York:20260512T090000
DTEND;TZID=America/New_York:20260512T170000
DTSTAMP:20260425T095936
CREATED:20260218T165944Z
LAST-MODIFIED:20260413T180026Z
UID:10000007-1778576400-1778605200@saferbuildings.net
SUMMARY:Southern California In-Building Public Safety Communications Seminar
DESCRIPTION:Designed for school safety leaders\, IT teams\, public safety professionals\, and partners—focused on practical\, integrated safety and emergency communications. \nCovers Alyssa’s Law/PASS guidelines\, panic alert and dispatch integration\, mapping/geolocation\, and in-building wireless (ERCES\, cellular\, Wi-Fi/private networks). \nEducation-focused with panels and takeaways\, plus vendor exhibits and lunch; most registrations are free (non-member industry: $195\, 2 seats/company).
URL:https://saferbuildings.net/calendar/event/southern-california-in-building-public-safety-communications-seminar/
LOCATION:David L. Baker Golf Course – Southern California\, 10410 Edinger Ave\, Fountain Valley\, 92708\, United States
CATEGORIES:ERCES,SBC Seminar / Training
ATTACH;FMTTYPE=image/jpeg:https://saferbuildings.net/calendar/wp-content/uploads/2026/02/S.-Cali-Banner-2026.jpg
ORGANIZER;CN="Safer Buildings Coalition":MAILTO:info@saferbuildings.org
END:VEVENT
BEGIN:VEVENT
DTSTART;TZID=America/New_York:20260512T090000
DTEND;TZID=America/New_York:20260513T170000
DTSTAMP:20260425T095936
CREATED:20260312T211146Z
LAST-MODIFIED:20260414T130044Z
UID:10000056-1778576400-1778691600@saferbuildings.net
SUMMARY:NICET IB-PSC Exam Prep (all levels) and ERCES Installation Best Practices
DESCRIPTION:Join ERCES Trainer LTD and WESCO for this 2-day hands-on class covering ERCES installation best practices and exam prep for NICET IB-PSC certification.  Registration is now open. \n\nThe NICET Certification Process\nProject Planning\, Construction & Lifecycle\nCodes & Standards\nRadio Systems Explained\nUnderstand Radio Frequency (RF) and Interference\nUnderstanding Decibels\nSite Surveys & Test Equipment\nUnderstanding Link Budgets\nUnderstanding DAS Components\nConstruction Best Practices\nBest Practices for Testing BDAs/DAS\nAHJ Inspection and Close Out Package\nHands-on time with BDA Commissioning\, Site Surveys and Cable Testing
URL:https://saferbuildings.net/calendar/event/nicet-ib-psc-exam-prep-levels-1-2-3-and-design-and-erces-installation-best-practices/
LOCATION:WESCO\, Kent\, WA\, 21419 64th Ave South\, Kent\, WA\, 98032\, United States
CATEGORIES:Code & Standards,ERCES Fundamentals,ERCES Technical,Test Equipment
ATTACH;FMTTYPE=image/png:https://saferbuildings.net/calendar/wp-content/uploads/2026/03/ERCES-Trainer-logo-with-Handbook-LG-1.png
ORGANIZER;CN="ERCESTrainer.com":MAILTO:Mike@ERCESTrainer.com
END:VEVENT
BEGIN:VEVENT
DTSTART;TZID=America/New_York:20260513T090000
DTEND;TZID=America/New_York:20260513T170000
DTSTAMP:20260425T095936
CREATED:20260402T111249Z
LAST-MODIFIED:20260402T194945Z
UID:10000095-1778662800-1778691600@saferbuildings.net
SUMMARY:ADRF/Graybar Training – Grand Rapids\, MI
DESCRIPTION:Advance your expertise in in-building wireless and earn industry-recognized ADRF certifications through this one-day\, in-person training. This program covers the fundamentals of public safety communication systems along with ADRF product certification – equipping you to confidently design\, deploy\, and support real-world solutions. \nAgenda\nTraining Agenda & Schedule\n\n\n\n\n9:00 AM – 9:30 AM \n\nIntroduction to Graybar & ADRF and market trends  \n\n9:30 AM – 10:30 AM\n\nPS 101: Delve into the details of Emergency Responder Communications Enhancement System (ERCES)\, understanding basic public safety codes and regulations\, and types of public safety systems. \n\n10:30 AM – 11:30 AM \n\nPS 102: Further your understanding of ERCES\, uncovering advanced knowledge of design\, installation\, and commissioning \n\n11:30 AM – 12:00 PM \n\nLunch \n\n12:00 PM – 3:00 PM \n\nPSR-78-9533/7-U1 Training & Certification Exam: Master the details of the 700/800 MHz PSR-U1 Series Repeaters. \nFiRe-78-8-U Training & Certification Exam: Learn the ins and outs of the FiRe-78-U\, a powerful fiber optic public safety repeater. \n\n3:00 PM – 5:00 PM \n\nHappy Hour (Optional)
URL:https://saferbuildings.net/calendar/event/adrf-graybar-training-grand-rapids-mi/
LOCATION:Graybar Grand Rapids Office\, 2204 Turner Ave NW\, Walker\, 49544\, United States
CATEGORIES:ERCES,ERCES Fundamentals,ERCES Technical,Product Training,School Safety
ATTACH;FMTTYPE=image/jpeg:https://saferbuildings.net/calendar/wp-content/uploads/2026/04/SBC-Event-Image-Graybar-1.jpg
ORGANIZER;CN="ADRF":MAILTO:daset@adrftech.com
END:VEVENT
BEGIN:VEVENT
DTSTART;TZID=America/New_York:20260514T090000
DTEND;TZID=America/New_York:20260514T143000
DTSTAMP:20260425T095936
CREATED:20260218T170201Z
LAST-MODIFIED:20260310T233703Z
UID:10000008-1778749200-1778769000@saferbuildings.net
SUMMARY:Seattle\, WA In-Building Public Safety Communications Seminar
DESCRIPTION:Designed for school safety leaders\, IT teams\, public safety professionals\, and partners—focused on practical\, integrated safety and emergency communications. \nCovers Alyssa’s Law/PASS guidelines\, panic alert and dispatch integration\, mapping/geolocation\, and in-building wireless (ERCES\, cellular\, Wi-Fi/private networks). \nEducation-focused with panels and takeaways\, plus vendor exhibits and lunch; most registrations are free (non-member industry: $195\, 2 seats/company).
URL:https://saferbuildings.net/calendar/event/seattle-wa-in-building-public-safety-communications-seminar/
LOCATION:Seattle\, WA\, Seattle\, WA\, United States
CATEGORIES:ERCES,SBC Seminar / Training
ATTACH;FMTTYPE=image/png:https://saferbuildings.net/calendar/wp-content/uploads/2026/02/Seattle-2026-1-1.png
ORGANIZER;CN="Safer Buildings Coalition":MAILTO:info@saferbuildings.org
END:VEVENT
BEGIN:VEVENT
DTSTART;TZID=America/New_York:20260519T083000
DTEND;TZID=America/New_York:20260520T160000
DTSTAMP:20260425T095936
CREATED:20260402T111135Z
LAST-MODIFIED:20260402T111135Z
UID:10000096-1779179400-1779292800@saferbuildings.net
SUMMARY:In-Building Grid and BDA Test Training for Orlando P25 800 MHz Public Safety Radio System
DESCRIPTION:PCTEL is pleased to offer a two-class series focused on the specific in-building coverage testing process required by the Orlando P25 800 MHz Radio System. This event includes both PCTEL® Certified Public Safety Tester training for grid-based testing\, and PCTEL’s BDA Commissioning Test training course. \nThis event is FREE for government employees.
URL:https://saferbuildings.net/calendar/event/in-building-grid-and-bda-test-training-for-orlando-p25-800-mhz-public-safety-radio-system/
CATEGORIES:ERCES,Product Training,Test Equipment
ATTACH;FMTTYPE=image/png:https://saferbuildings.net/calendar/wp-content/uploads/2026/03/PCTEL-Certified-PS-Tester-Badge-2x1-1.png
ORGANIZER;CN="PCTEL":MAILTO:michael.rosenberg@pctel.com
END:VEVENT
BEGIN:VEVENT
DTSTART;TZID=America/New_York:20260528T090000
DTEND;TZID=America/New_York:20260528T170000
DTSTAMP:20260425T095936
CREATED:20260218T170344Z
LAST-MODIFIED:20260413T180124Z
UID:10000009-1779958800-1779987600@saferbuildings.net
SUMMARY:Houston\, TX School Safety Tech and Wireless Seminar
DESCRIPTION:SCHOOL SAFETY TECH AND WIRELESS SEMINAR \nDesigned for school safety professionals\, IT and technology leaders\, the technology partners who support them\, and public safety professionals\, this seminar explores the challenges\, solutions\, and best practices for creating safer school environments through integrated technology and emergency communications. \nHosted by Safer Buildings Coalition leadership and subject matter experts\, this interactive seminar addresses the critical intersection of school safety technology\, emergency alert systems\, and in-building wireless communications. Content is tailored to include state and local requirements applicable to your region. \nThe seminar includes presentations\, panel discussions\, interactive audience discussions\, and practical takeaways. \nAgenda: \nSchool Safety Technologies and Best Practices \n\nTime = Life*: Alyssa’s Law and panic alert system requirements\nBuilding unified safety ecosystems: access control\, communications\, threat detection\, and response integration\nIndoor mapping and geolocation-based solutions\nThe importance of integration with state\, county\, and local emergency dispatch systems\nThe role of in-building wireless connectivity in holistic school safety (ERCES\, WiFi and other Private Networks\, Cellular)\n\nPASS Guidelines and Implementation \n\nOverview of PASS (Partner Alliance for Safer Schools) Security Guidelines\nPractical implementation strategies for K-12 environments\n\nWireless Infrastructure for Schools – Mandates\, Best Practices\, Considerations \n\nEmergency Responder Communications Enhancement Systems (ERCES) for Schools\n\n– What is required in your state? \n– Best Practices and Recommendations \n– Where to go for help \n\nCellular Phones and Coverage in Schools – Balancing Public Safety and Student Well Being\nPrivate Networks and WiFi: Taking control of wireless infrastructure in Schools\n\n– Types\, Coverage\, Resiliency\, Best Practices \nNOTE: This is an education-focused event with vendor exhibits. \nWHO SHOULD ATTEND: \nSchool & Government \n\nSchool district administrators and safety/security directors\nSchool IT directors and technology administrators\nState and local education officials\nFire marshals and code officials\nEmergency Dispatch Center Professionals\n\nIndustry \n\nSystems integrators and solutions architects\nManufacturers and distributors\nSaaS\, software\, and GIS/mapping providers\nPhysical Security Professionals (surveillance\, access\, facility management)\nConsultants serving education markets\n\nVendor Exhibits! Lunch Provided! Most Registrations are Free! \n\nIndustry attendees who are not Safer Buildings Coalition Members: $195 per seat\nIndustry attendees limit: 2 seats per company\n\nIMPORTANT NOTE TO COMMERCIAL ATTENDEES \nSafer Buildings Coalition training and seminar events are in high demand. WE ASK THAT: \n\nTHIS IS AN EDUCATIONAL EVENT! Commercial attendees must refrain from prospecting or performing any sales or marketing activities. Safer Buildings Coalition reserves the right to remove anyone violating this restriction.\nINDUSTRY ATTENDEES: No active OR passive marketing at our events. Our sponsors have tables where they may display and discuss their products and services.\nSafer Buildings Coalition reserves the right to limit the number of attendees at any event.\n\n*Time = Life is trademarked by SBC partner Make Our Schools Safe (MOSS).\nVisit MakeOurSchoolsSafe.org for more details.
URL:https://saferbuildings.net/calendar/event/houston-tx-school-safety-tech-and-wireless-seminar/
LOCATION:Houston\, TX\, Houston\, TX\, United States
CATEGORIES:SBC Seminar / Training
ATTACH;FMTTYPE=image/png:https://saferbuildings.net/calendar/wp-content/uploads/2026/02/Houston-Banner-2.png
ORGANIZER;CN="Safer Buildings Coalition":MAILTO:info@saferbuildings.org
END:VEVENT
END:VCALENDAR