BEGIN:VCALENDAR
VERSION:2.0
PRODID:-//Safer Buildings - Calendar - ECPv6.15.20//NONSGML v1.0//EN
CALSCALE:GREGORIAN
METHOD:PUBLISH
X-WR-CALNAME:Safer Buildings - Calendar
X-ORIGINAL-URL:https://saferbuildings.net/calendar
X-WR-CALDESC:Events for Safer Buildings - Calendar
REFRESH-INTERVAL;VALUE=DURATION:PT1H
X-Robots-Tag:noindex
X-PUBLISHED-TTL:PT1H
BEGIN:VTIMEZONE
TZID:America/New_York
BEGIN:DAYLIGHT
TZOFFSETFROM:-0500
TZOFFSETTO:-0400
TZNAME:EDT
DTSTART:20250309T070000
END:DAYLIGHT
BEGIN:STANDARD
TZOFFSETFROM:-0400
TZOFFSETTO:-0500
TZNAME:EST
DTSTART:20251102T060000
END:STANDARD
BEGIN:DAYLIGHT
TZOFFSETFROM:-0500
TZOFFSETTO:-0400
TZNAME:EDT
DTSTART:20260308T070000
END:DAYLIGHT
BEGIN:STANDARD
TZOFFSETFROM:-0400
TZOFFSETTO:-0500
TZNAME:EST
DTSTART:20261101T060000
END:STANDARD
BEGIN:DAYLIGHT
TZOFFSETFROM:-0500
TZOFFSETTO:-0400
TZNAME:EDT
DTSTART:20270314T070000
END:DAYLIGHT
BEGIN:STANDARD
TZOFFSETFROM:-0400
TZOFFSETTO:-0500
TZNAME:EST
DTSTART:20271107T060000
END:STANDARD
END:VTIMEZONE
BEGIN:VEVENT
DTSTART;TZID=America/New_York:20260430T083000
DTEND;TZID=America/New_York:20260430T160000
DTSTAMP:20260425T063831
CREATED:20260313T182959Z
LAST-MODIFIED:20260325T163855Z
UID:10000084-1777537800-1777564800@saferbuildings.net
SUMMARY:PCTEL Public Safety Tester Certification Training: Buena Park\, CA
DESCRIPTION:PCTEL is proud to offer Certified Public Safety Tester Training in Buena Park\, CA\, conveniently co-located with Westell BDA/ERCES certification training.  You’ll learn how to use SeeHawk® Touch software and PCTEL scanning receiver in concert with the SeeHawk® Central automated workflow management platform. Certification is valid for 2 years and recognized by jurisdictions nationwide. You may also opt to be listed on our website as a PCTEL® Certified Public Public Safety Tester. \nThis is for the registration and purchase of the one day\, PCTEL Public Safety Tester Certification. Registration for PCTEL and Westell training is separate.
URL:https://saferbuildings.net/calendar/event/pctel-public-safety-tester-certification-training-buena-park-ca/
LOCATION:MN
CATEGORIES:ERCES,Product Training,Test Equipment
ATTACH;FMTTYPE=image/png:https://saferbuildings.net/calendar/wp-content/uploads/2026/03/PCTEL-Certified-PS-Tester-Badge-2x1-1.png
ORGANIZER;CN="PCTEL":MAILTO:michael.rosenberg@pctel.com
END:VEVENT
BEGIN:VEVENT
DTSTART;TZID=America/New_York:20260428T080000
DTEND;TZID=America/New_York:20260429T160000
DTSTAMP:20260425T063831
CREATED:20260313T142356Z
LAST-MODIFIED:20260316T131935Z
UID:10000068-1777363200-1777478400@saferbuildings.net
SUMMARY:Westell Hands-on Certification: SoCal
DESCRIPTION:Westell is elevating the competencies of the ERCES (Emergency Responder Communication Enhancement System) industry to the next level. \n\nAdhering to IFC and NFPA codes is essential\nKnow how to configure the BDA to follow the FCC rules\nPreventing Oscillation\nFamiliarity with CW signal generators and spectrum analyzers is mandatory\nOptimizing Uplink to ensure the least amount of interference\nEvery antenna must be tested to ensure its performance matches the design\nHow to calculate a Link Budget\n\nThrough hands-on exercises\, learn to: \n\nMake AC and DC connections\nAlarming connections\nAlarm configurations\nOptimizing Uplink\nSystem and RF settings for both wide-band and channelization modes\nConnect remote annunciators\nPerform troubleshooting\nDiscuss converting a standalone CS40 and CS45 BDA into a Fiber DAS\n\nLunch will be provided on both days. Exams will be administered on the second day.  Both a hands-on and a written exam must be passed to receive certification.
URL:https://saferbuildings.net/calendar/event/westell-hands-on-certification-socal/
LOCATION:WESCO\, 6251 Knott Ave\, Buena Park\, CA\, 90620\, United States
CATEGORIES:ERCES Technical,Product Training
ATTACH;FMTTYPE=image/png:https://saferbuildings.net/calendar/wp-content/uploads/2026/03/SBC-1.png
ORGANIZER;CN="Westell":MAILTO:training@westell.com
END:VEVENT
BEGIN:VEVENT
DTSTART;TZID=America/New_York:20260423T093000
DTEND;TZID=America/New_York:20260423T143000
DTSTAMP:20260425T063831
CREATED:20260218T165651Z
LAST-MODIFIED:20260401T204131Z
UID:10000006-1776936600-1776954600@saferbuildings.net
SUMMARY:Atlanta\, GA School Safety Tech and Wireless Seminar
DESCRIPTION:SCHOOL SAFETY TECH AND WIRELESS SEMINAR \nDesigned for school safety professionals\, IT and technology leaders\, the technology partners who support them\, and public safety professionals\, this seminar explores the challenges\, solutions\, and best practices for creating safer school environments through integrated technology and emergency communications. \nHosted by Safer Buildings Coalition leadership and subject matter experts\, this interactive seminar addresses the critical intersection of school safety technology\, emergency alert systems\, and in-building wireless communications. Content is tailored to include state and local requirements applicable to your region. \nThe seminar includes presentations\, panel discussions\, interactive audience discussions\, and practical takeaways. \nAgenda: \nSchool Safety Technologies and Best Practices \n\nTime = Life*: Alyssa’s Law and panic alert system requirements\nBuilding unified safety ecosystems: access control\, communications\, threat detection\, and response integration\nIndoor mapping and geolocation-based solutions\nThe importance of integration with state\, county\, and local emergency dispatch systems\nThe role of in-building wireless connectivity in holistic school safety (ERCES\, WiFi and other Private Networks\, Cellular)\n\nPASS Guidelines and Implementation \n\nOverview of PASS (Partner Alliance for Safer Schools) Security Guidelines\nPractical implementation strategies for K-12 environments\n\nWireless Infrastructure for Schools – Mandates\, Best Practices\, Considerations \n\nEmergency Responder Communications Enhancement Systems (ERCES) for Schools\n\n– What is required in your state? \n– Best Practices and Recommendations \n– Where to go for help \n\nCellular Phones and Coverage in Schools – Balancing Public Safety and Student Well Being\nPrivate Networks and WiFi: Taking control of wireless infrastructure in Schools\n\n– Types\, Coverage\, Resiliency\, Best Practices \nNOTE: This is an education-focused event with vendor exhibits. \nWHO SHOULD ATTEND: \nSchool & Government \n\nSchool district administrators and safety/security directors\nSchool IT directors and technology administrators\nState and local education officials\nFire marshals and code officials\nEmergency Dispatch Center Professionals\n\nIndustry \n\nSystems integrators and solutions architects\nManufacturers and distributors\nSaaS\, software\, and GIS/mapping providers\nPhysical Security Professionals (surveillance\, access\, facility management)\nConsultants serving education markets\n\nVendor Exhibits! Lunch Provided! Most Registrations are Free! \n\nIndustry attendees who are not Safer Buildings Coalition Members: $195 per seat\nIndustry attendees limit: 2 seats per company\n\nIMPORTANT NOTE TO COMMERCIAL ATTENDEES \nSafer Buildings Coalition training and seminar events are in high demand. WE ASK THAT: \n\nTHIS IS AN EDUCATIONAL EVENT! Commercial attendees must refrain from prospecting or performing any sales or marketing activities. Safer Buildings Coalition reserves the right to remove anyone violating this restriction.\nINDUSTRY ATTENDEES: No active OR passive marketing at our events. Our sponsors have tables where they may display and discuss their products and services.\nSafer Buildings Coalition reserves the right to limit the number of attendees at any event.\n\n*Time = Life is trademarked by SBC partner Make Our Schools Safe (MOSS).\nVisit MakeOurSchoolsSafe.org for more details.
URL:https://saferbuildings.net/calendar/event/atlanta-ga-school-safety-tech-and-wireless-seminar/
LOCATION:Atlanta Technical College\, 1560 Metropolitan Pkwy SW\, Atlanta\, GA\, 30310\, United States
CATEGORIES:SBC Seminar / Training
ATTACH;FMTTYPE=image/png:https://saferbuildings.net/calendar/wp-content/uploads/2026/02/Atlanta-Banner-2-3.png
ORGANIZER;CN="Safer Buildings Coalition":MAILTO:info@saferbuildings.org
END:VEVENT
BEGIN:VEVENT
DTSTART;TZID=America/New_York:20260422T090000
DTEND;TZID=America/New_York:20260422T130000
DTSTAMP:20260425T063831
CREATED:20260413T200255Z
LAST-MODIFIED:20260413T200255Z
UID:10000098-1776848400-1776862800@saferbuildings.net
SUMMARY:St. Louis\, MO ERCES
DESCRIPTION:Course Description: This training session is designed for code officials\, inspectors\, FCC license holders\, with introductory or foundational knowledge of Emergency Responder Communication Enhancement Systems (ERCES) and Bi-Directional Amplifiers (BDAs).
URL:https://saferbuildings.net/calendar/event/st-louis-mo-erces/
LOCATION:Fenton Fire Protection District Station 2\, 1001 Assembly Parkway\, Fenton\, MO\, 63055\, United States
CATEGORIES:Code & Standards,ERCES
ATTACH;FMTTYPE=image/png:https://saferbuildings.net/calendar/wp-content/uploads/2026/04/Fiplex-Logo.png
ORGANIZER;CN="Fiplex by Honeywell":MAILTO:info@www.fiplex.com
END:VEVENT
BEGIN:VEVENT
DTSTART;TZID=America/New_York:20260421T083000
DTEND;TZID=America/New_York:20260422T170000
DTSTAMP:20260425T063831
CREATED:20260401T181744Z
LAST-MODIFIED:20260401T185441Z
UID:10000093-1776760200-1776877200@saferbuildings.net
SUMMARY:ADRF/Accu-Tech Training – Alpharetta\, GA
DESCRIPTION:Advance your expertise in in-building wireless and earn industry-recognized ADRF certifications through this intensive two-day training program. This program provides in-depth product knowledge and certifications\, equipping you with the skills and credentials to confidently design\, deploy\, and support real-world systems. \nTraining Agenda\nDay 1 – Tuesday\, April 21\, 2026: ERCES (Emergency Responder Communication Enhancement System) \n\nRF Fundamentals: Establish a strong foundation in Radio Frequency (RF) principles\, setting the stage for advanced concepts.\nPS 101: Delve into the details of Emergency Responder Communications Enhancement System (ERCES)\, understanding basic public safety codes and regulations\, and types of public safety systems.\nPS 102: Further your understanding of ERCES\, uncovering advanced knowledge of design\, installation\, and commissioning.\nPSR-78-9533/7-U1 Training & Certification Exam: Master the details of the 700/800 MHz PSR-U1 Series Repeaters.\nPSR-VU/U-9537-U1 Training & Certification Exam: Master the details of the VHF/UHF PSR-U1 Series Repeaters.\nFiRe-78-8-U Training & Certification Exam: Learn the ins and outs of the FiRe-78-U\, a powerful fiber optic public safety repeater.\n\nDay 2 – Wednesday\, April 22\, 2026: Cellular DAS (Distributed Antenna System) or Repeater\n\nDAS 101: Gain insights into Distributed Antenna Systems (DAS)\, a critical component in optimizing wireless communication networks.\nDAS 102: Explore advanced concepts in Distributed Antenna Systems\, building upon the foundation. \nSDRC Series Training & Certification Exam: Learn the capabilities of ADRF’s first Part 20 consumer-grade repeater\, designed to deliver superior performance and reliability.\nADXV Series DAS Architecture: Unravel the architecture of ADXV Series\, the best modular DAS in the market\, understanding its design and functionality for optimal deployment.\nADXV Series DAS Commissioning: Learn the essential steps involved in commissioning ADXV Series\, ensuring seamless integration into new and existing network infrastructure.\nADXV Series DAS Certification Exam: Cap off your training journey by earning a prestigious certification for the ADXV Series DAS\, solidifying your expertise in this cutting-edge technology.
URL:https://saferbuildings.net/calendar/event/adrf-accu-tech-training-alpharetta-ga/
LOCATION:Accu-Tech Alpharetta Office\, 11350 Old Roswell Road\, Suite 100\, Alpharetta\, GA\, 30009\, United States
CATEGORIES:ERCES,ERCES Fundamentals,ERCES Technical,Product Training,School Safety
ATTACH;FMTTYPE=image/png:https://saferbuildings.net/calendar/wp-content/uploads/2026/04/ADRF_Hero.png
ORGANIZER;CN="ADRF":MAILTO:daset@adrftech.com
END:VEVENT
BEGIN:VEVENT
DTSTART;TZID=America/New_York:20260415T083000
DTEND;TZID=America/New_York:20260416T160000
DTSTAMP:20260425T063831
CREATED:20260327T132745Z
LAST-MODIFIED:20260327T132745Z
UID:10000091-1776241800-1776355200@saferbuildings.net
SUMMARY:In-Building Grid and BDA Test Training for Montgomery County\, TX Public Safety Radio Systems
DESCRIPTION:PCTEL is pleased to offer a two-class series focused on the specific in-building coverage testing process required by Montgomery County Radio Systems. This event includes both PCTEL® Certified Public Safety Tester training for grid-based testing\, and PCTEL’s BDA Commissioning Test training course. \nThis event is FREE for Texas residents\, thanks to a Texas state grant.
URL:https://saferbuildings.net/calendar/event/in-building-grid-and-bda-test-training-for-montgomery-county-tx-public-safety-radio-systems/
LOCATION:MN
CATEGORIES:ERCES,Product Training,Test Equipment
ATTACH;FMTTYPE=image/png:https://saferbuildings.net/calendar/wp-content/uploads/2026/03/PCTEL-Certified-PS-Tester-Badge-2x1-1.png
ORGANIZER;CN="PCTEL":MAILTO:michael.rosenberg@pctel.com
END:VEVENT
BEGIN:VEVENT
DTSTART;TZID=America/New_York:20260414T090000
DTEND;TZID=America/New_York:20260414T170000
DTSTAMP:20260425T063831
CREATED:20260218T165438Z
LAST-MODIFIED:20260413T180003Z
UID:10000005-1776157200-1776186000@saferbuildings.net
SUMMARY:Miami\, FL In-Building Public Safety Communications Seminar
DESCRIPTION:Designed for school safety leaders\, IT teams\, public safety professionals\, and partners—focused on practical\, integrated safety and emergency communications. \nCovers Alyssa’s Law/PASS guidelines\, panic alert and dispatch integration\, mapping/geolocation\, and in-building wireless (ERCES\, cellular\, Wi-Fi/private networks). \nEducation-focused with panels and takeaways\, plus vendor exhibits and lunch; most registrations are free (non-member industry: $195\, 2 seats/company).
URL:https://saferbuildings.net/calendar/event/miami-fl-in-building-public-safety-communications-seminar/
LOCATION:Miami PBA Hall\, 2300 NW 14 Street\, Miami\, FL\, 33125\, United States
CATEGORIES:ERCES,SBC Seminar / Training
ATTACH;FMTTYPE=image/png:https://saferbuildings.net/calendar/wp-content/uploads/2026/02/Miami-Banner-2026-1.png
ORGANIZER;CN="Safer Buildings Coalition":MAILTO:info@saferbuildings.org
END:VEVENT
BEGIN:VEVENT
DTSTART;TZID=America/New_York:20260414T083000
DTEND;TZID=America/New_York:20260415T170000
DTSTAMP:20260425T063831
CREATED:20260401T180858Z
LAST-MODIFIED:20260401T185754Z
UID:10000092-1776155400-1776272400@saferbuildings.net
SUMMARY:ADRF/Accu-Tech Training – Hanover\, MD
DESCRIPTION:Advance your expertise in in-building wireless and earn industry-recognized ADRF certifications through this intensive two-day training program. This program provides in-depth product knowledge and certifications\, equipping you with the skills and credentials to confidently design\, deploy\, and support real-world systems. \nTraining Agenda\nDay 1 – Tuesday\, April 14\, 2026: ERCES (Emergency Responder Communication Enhancement System) \n\nRF Fundamentals: Establish a strong foundation in Radio Frequency (RF) principles\, setting the stage for advanced concepts.\nPS 101: Delve into the details of Emergency Responder Communications Enhancement System (ERCES)\, understanding basic public safety codes and regulations\, and types of public safety systems.\nPS 102: Further your understanding of ERCES\, uncovering advanced knowledge of design\, installation\, and commissioning.\nPSR-78-9533/7-U1 Training & Certification Exam: Master the details of the 700/800 MHz PSR-U1 Series Repeaters.\nPSR-VU/U-9537-U1 Training & Certification Exam: Master the details of the VHF/UHF PSR-U1 Series Repeaters.\nFiRe-78-8-U Training & Certification Exam: Learn the ins and outs of the FiRe-78-U\, a powerful fiber optic public safety repeater.\n\nDay 2 – Wednesday\, April 15\, 2026: Cellular DAS (Distributed Antenna System) or Repeater\n\nDAS 101: Gain insights into Distributed Antenna Systems (DAS)\, a critical component in optimizing wireless communication networks.\nDAS 102: Explore advanced concepts in Distributed Antenna Systems\, building upon the foundation.\nSDRC Series Training & Certification Exam: Learn the capabilities of ADRF’s first Part 20 consumer-grade repeater\, designed to deliver superior performance and reliability.\nADXV Series DAS Architecture: Unravel the architecture of ADXV Series\, the best modular DAS in the market\, understanding its design and functionality for optimal deployment.\nADXV Series DAS Commissioning: Learn the essential steps involved in commissioning ADXV Series\, ensuring seamless integration into new and existing network infrastructure.\nADXV Series DAS Certification Exam: Cap off your training journey by earning a prestigious certification for the ADXV Series DAS\, solidifying your expertise in this cutting-edge technology.
URL:https://saferbuildings.net/calendar/event/adrf-accu-tech-training-hanover-md/
LOCATION:Accu-Tech Hanover Office\, 7314 Race Rd Suite A\, Hanover\, MD\, 21076\, United States
CATEGORIES:ERCES,ERCES Fundamentals,ERCES Technical,Product Training,School Safety
ATTACH;FMTTYPE=image/png:https://saferbuildings.net/calendar/wp-content/uploads/2026/04/ADRF_Hero.png
ORGANIZER;CN="ADRF":MAILTO:daset@adrftech.com
END:VEVENT
BEGIN:VEVENT
DTSTART;TZID=America/New_York:20260407T080000
DTEND;TZID=America/New_York:20260408T160000
DTSTAMP:20260425T063831
CREATED:20260313T035312Z
LAST-MODIFIED:20260313T042137Z
UID:10000063-1775548800-1775664000@saferbuildings.net
SUMMARY:Advanced NICET IB-PSC Exam Prep with Motorola Solutions
DESCRIPTION:For select Motorola Solutions partners and Motorola radio network licensees and administrators only.  This event is focused on providing those with a solid understanding of RF and radio networks to also understand best practices of ERCES Installation and testing and to prepare for the NICET IB-PSC exams.  This is an invitation only event.  For more info email me at mike@ercestrainer.com. \n\nThe NICET Certification Process\nProject Planning\, Construction & Lifecycle\nCodes & Standards\nUnderstand Radio Frequency (RF) and Interference\nSite Surveys & Test Equipment\nUnderstanding Link Budgets\nUnderstanding DAS Components\nConstruction Best Practices\nBest Practices for Testing BDAs/DAS\nAHJ Inspection and Close Out Package
URL:https://saferbuildings.net/calendar/event/advanced-nicet-ib-psc-exam-prep-with-motorola-solutions/
LOCATION:Motorola Solutions Nashville\, Brentwood\, TN\, United States
CATEGORIES:Code & Standards,ERCES Fundamentals,ERCES Technical,Test Equipment
ATTACH;FMTTYPE=image/png:https://saferbuildings.net/calendar/wp-content/uploads/2026/03/ERCES-Trainer-logo-with-Handbook-LG-2.png
ORGANIZER;CN="ERCESTrainer.com":MAILTO:Mike@ERCESTrainer.com
END:VEVENT
BEGIN:VEVENT
DTSTART;TZID=America/New_York:20260331T080000
DTEND;TZID=America/New_York:20260401T160000
DTSTAMP:20260425T063831
CREATED:20260312T201804Z
LAST-MODIFIED:20260316T131819Z
UID:10000051-1774944000-1775059200@saferbuildings.net
SUMMARY:Westell Hands-on Certification: Atlanta
DESCRIPTION:Westell is elevating the competencies of the ERCES (Emergency Responder Communication Enhancement System) industry to the next level. \n\nAdhering to IFC and NFPA codes is essential\nKnow how to configure the BDA to follow the FCC rules\nPreventing Oscillation\nFamiliarity with CW signal generators and spectrum analyzers is mandatory\nOptimizing Uplink to ensure the least amount of interference\nEvery antenna must be tested to ensure its performance matches the design\nHow to calculate a Link Budget\n\nThrough hands-on exercises\, learn to: \n\nMake AC and DC connections\nAlarming connections\nAlarm configurations\nOptimizing Uplink\nSystem and RF settings for both wide-band and channelization modes\nConnect remote annunciators\nPerform troubleshooting\nDiscuss converting a standalone CS40 and CS45 BDA into a Fiber DAS\n\nLunch will be provided on both days. Exams will be administered on the second day.  Both a hands-on and a written exam must be passed to receive certification.
URL:https://saferbuildings.net/calendar/event/westell-hands-on-certification-atlanta/
LOCATION:JEM Systems\, 125 Westlake Pkwy SW - Suite 170\, Atlanta\, 30336\, United States
CATEGORIES:ERCES Technical,Product Training
ATTACH;FMTTYPE=image/png:https://saferbuildings.net/calendar/wp-content/uploads/2026/03/SBC.png
ORGANIZER;CN="Westell":MAILTO:training@westell.com
END:VEVENT
BEGIN:VEVENT
DTSTART;TZID=America/New_York:20260324T090000
DTEND;TZID=America/New_York:20260324T170000
DTSTAMP:20260425T063831
CREATED:20260312T210406Z
LAST-MODIFIED:20260313T041955Z
UID:10000055-1774342800-1774371600@saferbuildings.net
SUMMARY:NICET IB-PSC Level 1 Tech\, Virtual online
DESCRIPTION:In partnership with the National Training Center\, the leading education and NICET exam prep entity providing training for fire alarm\, fire sprinkler\, and other industries\, we are offering a one-day online class covering the skills and knowledge covered by the NICET IB-PSC Level 1 technician exam. This class will be providing the necessary knowledge and best practices for level 1 technicians doing the installation work on ERCES/ERRCS solutions.
URL:https://saferbuildings.net/calendar/event/nicet-ib-psc-level-1-tech-virtual-online/
LOCATION:https://nationaltrainingcenter.com/event/erces-installation-best-practices-and-nicet-ib-psc-prep/
CATEGORIES:Code & Standards,ERCES Fundamentals,ERCES Technical
ATTACH;FMTTYPE=image/png:https://saferbuildings.net/calendar/wp-content/uploads/2026/03/ERCES-Trainer-logo-with-Handbook-LG.png
ORGANIZER;CN="ERCESTrainer.com":MAILTO:Mike@ERCESTrainer.com
END:VEVENT
BEGIN:VEVENT
DTSTART;VALUE=DATE:20260316
DTEND;VALUE=DATE:20260320
DTSTAMP:20260425T063831
CREATED:20260218T164837Z
LAST-MODIFIED:20260218T164837Z
UID:10000004-1773619200-1773964799@saferbuildings.net
SUMMARY:IWCE 2026
DESCRIPTION:Join 5\,000+ Critical Communications Professionals\n250+ Expert Speakers • 300+ Sponsors & Exhibitors \nWith so many critical communications professionals in one place\,\nthere’s no better opportunity to learn and network than IWCE 2026. \nReceive 20% off your conference pass or a FREE Expo Hall pass simply by using code SBC20 at checkout. \nVisit us in booth 2118 or attend one of several speaking sessions where we are presenting. \nRegistration »
URL:https://saferbuildings.net/calendar/event/iwce-2026/
LOCATION:Las Vegas Convention Center\, South Hall\, 3150 Paradise Road\, Las Vegas\, NV\, 89109\, United States
CATEGORIES:Industry Event
ATTACH;FMTTYPE=image/webp:https://saferbuildings.net/calendar/wp-content/uploads/2026/02/IWCE_2026-1024x572-1.webp
END:VEVENT
BEGIN:VEVENT
DTSTART;TZID=America/New_York:20260312T090000
DTEND;TZID=America/New_York:20260312T150000
DTSTAMP:20260425T063831
CREATED:20260212T195410Z
LAST-MODIFIED:20260304T230121Z
UID:10000002-1773306000-1773327600@saferbuildings.net
SUMMARY:Detroit\, MI In-Building Public Safety Communications Seminar
DESCRIPTION:Designed for school safety leaders\, IT teams\, public safety professionals\, and partners—focused on practical\, integrated safety and emergency communications. \nCovers Alyssa’s Law/PASS guidelines\, panic alert and dispatch integration\, mapping/geolocation\, and in-building wireless (ERCES\, cellular\, Wi-Fi/private networks). \nEducation-focused with panels and takeaways\, plus vendor exhibits and lunch; most registrations are free (non-member industry: $195\, 2 seats/company).
URL:https://saferbuildings.net/calendar/event/detroit-mi-in-building-public-safety-communications-seminar/
LOCATION:The Grecian Center – Southgate\, MI\, 16300 Dix Toledo Rd\, Southgate\, MI\, 48195\, United States
CATEGORIES:ERCES,SBC Seminar / Training
ATTACH;FMTTYPE=image/png:https://saferbuildings.net/calendar/wp-content/uploads/2026/02/Detroit-Banner-2026.png
ORGANIZER;CN="Safer Buildings Coalition":MAILTO:info@saferbuildings.org
END:VEVENT
BEGIN:VEVENT
DTSTART;TZID=America/New_York:20260310T090000
DTEND;TZID=America/New_York:20260310T143000
DTSTAMP:20260425T063831
CREATED:20260212T195027Z
LAST-MODIFIED:20260304T230127Z
UID:10000001-1773133200-1773153000@saferbuildings.net
SUMMARY:Charleston\, SC In-Building Public Safety Communications Seminar
DESCRIPTION:Designed for school safety leaders\, IT teams\, public safety professionals\, and partners—focused on practical\, integrated safety and emergency communications. \nCovers Alyssa’s Law/PASS guidelines\, panic alert and dispatch integration\, mapping/geolocation\, and in-building wireless (ERCES\, cellular\, Wi-Fi/private networks). \nEducation-focused with panels and takeaways\, plus vendor exhibits and lunch; most registrations are free (non-member industry: $195\, 2 seats/company).
URL:https://saferbuildings.net/calendar/event/charleston-sc-in-building-public-safety-communications-seminar/
LOCATION:Scottish Rite Event Venue Theater and Banquet Hall – Valley of Charleston\, 1051 Sam Rittenberg Boulevard\, Charleston\, SC\, 29407\, United States
CATEGORIES:ERCES,SBC Seminar / Training
ATTACH;FMTTYPE=image/png:https://saferbuildings.net/calendar/wp-content/uploads/2026/02/Charleston-Banner-2026.png
ORGANIZER;CN="Safer Buildings Coalition":MAILTO:info@saferbuildings.org
END:VEVENT
END:VCALENDAR