BEGIN:VCALENDAR
VERSION:2.0
PRODID:-//Safer Buildings - Calendar - ECPv6.15.20//NONSGML v1.0//EN
CALSCALE:GREGORIAN
METHOD:PUBLISH
X-ORIGINAL-URL:https://saferbuildings.net/calendar
X-WR-CALDESC:Events for Safer Buildings - Calendar
REFRESH-INTERVAL;VALUE=DURATION:PT1H
X-Robots-Tag:noindex
X-PUBLISHED-TTL:PT1H
BEGIN:VTIMEZONE
TZID:America/New_York
BEGIN:DAYLIGHT
TZOFFSETFROM:-0500
TZOFFSETTO:-0400
TZNAME:EDT
DTSTART:20250309T070000
END:DAYLIGHT
BEGIN:STANDARD
TZOFFSETFROM:-0400
TZOFFSETTO:-0500
TZNAME:EST
DTSTART:20251102T060000
END:STANDARD
BEGIN:DAYLIGHT
TZOFFSETFROM:-0500
TZOFFSETTO:-0400
TZNAME:EDT
DTSTART:20260308T070000
END:DAYLIGHT
BEGIN:STANDARD
TZOFFSETFROM:-0400
TZOFFSETTO:-0500
TZNAME:EST
DTSTART:20261101T060000
END:STANDARD
BEGIN:DAYLIGHT
TZOFFSETFROM:-0500
TZOFFSETTO:-0400
TZNAME:EDT
DTSTART:20270314T070000
END:DAYLIGHT
BEGIN:STANDARD
TZOFFSETFROM:-0400
TZOFFSETTO:-0500
TZNAME:EST
DTSTART:20271107T060000
END:STANDARD
END:VTIMEZONE
BEGIN:VEVENT
DTSTART;TZID=America/New_York:20260609T080000
DTEND;TZID=America/New_York:20260610T180000
DTSTAMP:20260425T070018
CREATED:20260218T170845Z
LAST-MODIFIED:20260417T192149Z
UID:10000010-1780992000-1781114400@saferbuildings.net
SUMMARY:Wireless Tech and School Safety Summit
DESCRIPTION:2026 Safer Buildings Coalition Wireless Tech & School Safety Summit\nJoin officials\, thought leaders and industry professionals for the Safer Buildings Coalition Wireless Tech & Schol Safety Summit in Washington\, DC. \nDETAILS\nJune 9-10\, 2026\nKellogg Conference Hotel Capitol Hill at Gallaudet\nWashington\, DC
URL:https://saferbuildings.net/calendar/event/wireless-tech-and-school-safety-summit/
LOCATION:Kellogg Conference Hotel Capitol Hill at Gallaudet\, 800 Florida Ave NE\, Washington\, DC\, 20002-3695\, United States
CATEGORIES:Special Events
ATTACH;FMTTYPE=image/png:https://saferbuildings.net/calendar/wp-content/uploads/2026/02/Summit-2026-Eventbrite-Banner-1-1.png
ORGANIZER;CN="Safer Buildings Coalition":MAILTO:info@saferbuildings.org
END:VEVENT
END:VCALENDAR