BEGIN:VCALENDAR
VERSION:2.0
PRODID:-//Safer Buildings - Calendar - ECPv6.15.20//NONSGML v1.0//EN
CALSCALE:GREGORIAN
METHOD:PUBLISH
X-WR-CALNAME:Safer Buildings - Calendar
X-ORIGINAL-URL:https://saferbuildings.net/calendar
X-WR-CALDESC:Events for Safer Buildings - Calendar
REFRESH-INTERVAL;VALUE=DURATION:PT1H
X-Robots-Tag:noindex
X-PUBLISHED-TTL:PT1H
BEGIN:VTIMEZONE
TZID:America/New_York
BEGIN:DAYLIGHT
TZOFFSETFROM:-0500
TZOFFSETTO:-0400
TZNAME:EDT
DTSTART:20250309T070000
END:DAYLIGHT
BEGIN:STANDARD
TZOFFSETFROM:-0400
TZOFFSETTO:-0500
TZNAME:EST
DTSTART:20251102T060000
END:STANDARD
BEGIN:DAYLIGHT
TZOFFSETFROM:-0500
TZOFFSETTO:-0400
TZNAME:EDT
DTSTART:20260308T070000
END:DAYLIGHT
BEGIN:STANDARD
TZOFFSETFROM:-0400
TZOFFSETTO:-0500
TZNAME:EST
DTSTART:20261101T060000
END:STANDARD
BEGIN:DAYLIGHT
TZOFFSETFROM:-0500
TZOFFSETTO:-0400
TZNAME:EDT
DTSTART:20270314T070000
END:DAYLIGHT
BEGIN:STANDARD
TZOFFSETFROM:-0400
TZOFFSETTO:-0500
TZNAME:EST
DTSTART:20271107T060000
END:STANDARD
END:VTIMEZONE
BEGIN:VEVENT
DTSTART;TZID=America/New_York:20260914T090000
DTEND;TZID=America/New_York:20260914T143000
DTSTAMP:20260425T082709
CREATED:20260219T162320Z
LAST-MODIFIED:20260310T232826Z
UID:10000014-1789376400-1789396200@saferbuildings.net
SUMMARY:Las Vegas\, NV In-Building Public Safety Communications Seminar
DESCRIPTION:Designed for school safety leaders\, IT teams\, public safety professionals\, and partners—focused on practical\, integrated safety and emergency communications. \nCovers Alyssa’s Law/PASS guidelines\, panic alert and dispatch integration\, mapping/geolocation\, and in-building wireless (ERCES\, cellular\, Wi-Fi/private networks). \nEducation-focused with panels and takeaways\, plus vendor exhibits and lunch; most registrations are free (non-member industry: $195\, 2 seats/company).
URL:https://saferbuildings.net/calendar/event/las-vegas-nv-in-building-public-safety-communications-seminar/
LOCATION:South Point Hotel Casino & Spa\, 9777 S Las Vegas Blvd\, Las Vegas\, NV\, 89183\, United States
CATEGORIES:ERCES,SBC Seminar / Training
ATTACH;FMTTYPE=image/webp:https://saferbuildings.net/calendar/wp-content/uploads/2026/03/Placeholder-Seminar-Graphic.webp
ORGANIZER;CN="Safer Buildings Coalition":MAILTO:info@saferbuildings.org
END:VEVENT
BEGIN:VEVENT
DTSTART;TZID=America/New_York:20260916T090000
DTEND;TZID=America/New_York:20260916T170000
DTSTAMP:20260425T082709
CREATED:20260219T162803Z
LAST-MODIFIED:20260413T180216Z
UID:10000015-1789549200-1789578000@saferbuildings.net
SUMMARY:Northern California In-Building Public Safety Communications Seminar
DESCRIPTION:Designed for school safety leaders\, IT teams\, public safety professionals\, and partners—focused on practical\, integrated safety and emergency communications. \nCovers Alyssa’s Law/PASS guidelines\, panic alert and dispatch integration\, mapping/geolocation\, and in-building wireless (ERCES\, cellular\, Wi-Fi/private networks). \nEducation-focused with panels and takeaways\, plus vendor exhibits and lunch; most registrations are free (non-member industry: $195\, 2 seats/company).
URL:https://saferbuildings.net/calendar/event/northern-california-in-building-public-safety-communications-seminar/
LOCATION:Northern California\, CA\, United States
CATEGORIES:ERCES,SBC Seminar / Training
ATTACH;FMTTYPE=image/webp:https://saferbuildings.net/calendar/wp-content/uploads/2026/03/Placeholder-Seminar-Graphic.webp
ORGANIZER;CN="Safer Buildings Coalition":MAILTO:info@saferbuildings.org
END:VEVENT
BEGIN:VEVENT
DTSTART;TZID=America/New_York:20260922T090000
DTEND;TZID=America/New_York:20260922T170000
DTSTAMP:20260425T082709
CREATED:20260219T163037Z
LAST-MODIFIED:20260413T180237Z
UID:10000016-1790067600-1790096400@saferbuildings.net
SUMMARY:Tampa\, FL School Safety Tech and Wireless Seminar
DESCRIPTION:SCHOOL SAFETY TECH AND WIRELESS SEMINAR \nDesigned for school safety professionals\, IT and technology leaders\, the technology partners who support them\, and public safety professionals\, this seminar explores the challenges\, solutions\, and best practices for creating safer school environments through integrated technology and emergency communications. \nHosted by Safer Buildings Coalition leadership and subject matter experts\, this interactive seminar addresses the critical intersection of school safety technology\, emergency alert systems\, and in-building wireless communications. Content is tailored to include state and local requirements applicable to your region. \nThe seminar includes presentations\, panel discussions\, interactive audience discussions\, and practical takeaways. \nAgenda: \nSchool Safety Technologies and Best Practices \n\nTime = Life*: Alyssa’s Law and panic alert system requirements\nBuilding unified safety ecosystems: access control\, communications\, threat detection\, and response integration\nIndoor mapping and geolocation-based solutions\nThe importance of integration with state\, county\, and local emergency dispatch systems\nThe role of in-building wireless connectivity in holistic school safety (ERCES\, WiFi and other Private Networks\, Cellular)\n\nPASS Guidelines and Implementation \n\nOverview of PASS (Partner Alliance for Safer Schools) Security Guidelines\nPractical implementation strategies for K-12 environments\n\nWireless Infrastructure for Schools – Mandates\, Best Practices\, Considerations \n\nEmergency Responder Communications Enhancement Systems (ERCES) for Schools\n\n– What is required in your state? \n– Best Practices and Recommendations \n– Where to go for help \n\nCellular Phones and Coverage in Schools – Balancing Public Safety and Student Well Being\nPrivate Networks and WiFi: Taking control of wireless infrastructure in Schools\n\n– Types\, Coverage\, Resiliency\, Best Practices \nNOTE: This is an education-focused event with vendor exhibits. \nWHO SHOULD ATTEND: \nSchool & Government \n\nSchool district administrators and safety/security directors\nSchool IT directors and technology administrators\nState and local education officials\nFire marshals and code officials\nEmergency Dispatch Center Professionals\n\nIndustry \n\nSystems integrators and solutions architects\nManufacturers and distributors\nSaaS\, software\, and GIS/mapping providers\nPhysical Security Professionals (surveillance\, access\, facility management)\nConsultants serving education markets\n\nVendor Exhibits! Lunch Provided! Most Registrations are Free! \n\nIndustry attendees who are not Safer Buildings Coalition Members: $195 per seat\nIndustry attendees limit: 2 seats per company\n\nIMPORTANT NOTE TO COMMERCIAL ATTENDEES \nSafer Buildings Coalition training and seminar events are in high demand. WE ASK THAT: \n\nTHIS IS AN EDUCATIONAL EVENT! Commercial attendees must refrain from prospecting or performing any sales or marketing activities. Safer Buildings Coalition reserves the right to remove anyone violating this restriction.\nINDUSTRY ATTENDEES: No active OR passive marketing at our events. Our sponsors have tables where they may display and discuss their products and services.\nSafer Buildings Coalition reserves the right to limit the number of attendees at any event.\n\n*Time = Life is trademarked by SBC partner Make Our Schools Safe (MOSS).\nVisit MakeOurSchoolsSafe.org for more details.
URL:https://saferbuildings.net/calendar/event/tampa-fl-school-safety-tech-and-wireless-seminar/
LOCATION:Tampa\, FL\, Tampa\, FL\, United States
CATEGORIES:SBC Seminar / Training
ATTACH;FMTTYPE=image/png:https://saferbuildings.net/calendar/wp-content/uploads/2026/02/Tampa-Banner-1-1.png
ORGANIZER;CN="Safer Buildings Coalition":MAILTO:info@saferbuildings.org
END:VEVENT
END:VCALENDAR